BEGIN:VCALENDAR
VERSION:2.0
PRODID:-//Hundeschule Heßling - ECPv6.15.20//NONSGML v1.0//EN
CALSCALE:GREGORIAN
METHOD:PUBLISH
X-WR-CALNAME:Hundeschule Heßling
X-ORIGINAL-URL:https://hessling.de
X-WR-CALDESC:Veranstaltungen für Hundeschule Heßling
REFRESH-INTERVAL;VALUE=DURATION:PT1H
X-Robots-Tag:noindex
X-PUBLISHED-TTL:PT1H
BEGIN:VTIMEZONE
TZID:UTC
BEGIN:STANDARD
TZOFFSETFROM:+0000
TZOFFSETTO:+0000
TZNAME:UTC
DTSTART:20250101T000000
END:STANDARD
END:VTIMEZONE
BEGIN:VEVENT
DTSTART;TZID=UTC:20260413T150000
DTEND;TZID=UTC:20260424T170000
DTSTAMP:20260423T083435
CREATED:20251020T131829Z
LAST-MODIFIED:20251020T132142Z
UID:57456-1776092400-1777050000@hessling.de
SUMMARY:13. - 24. April 2026
DESCRIPTION:Beinhaltet 2 x 45 Minuten Unterricht am Nachmittag. Folgende Hörzeichen werden in den Übungen gelehrt: Fuß\, Sitz\, Platz\, Kehrt an locker durchhängender Leine. Bleib Sitz\, Bleib Platz mit Entfernen des Hundeführers sowie das Ausführen dieser Hörzeichen ohne Leine. Benehmen in der Öffentlichkeit wie z. B. kein Anspringen\, kein Aufnehmen von Unrat oder der Rückruf im Freilauf. Für jeden einzelnen Hund finden individuell gestaltete Übungen in Reizsituationen statt\, die beim Hundebesitzer im alltäglichen Leben vorkommen. Empfohlen für sozial verträgliche Hunde ab 6 Monate.
URL:https://hessling.de/event/13-24-april-2026/
LOCATION:Hundeschule Heßling\, Frieschenmoorer Str. 17\, Ovelgönne\, 26939\, Deutschland
CATEGORIES:Teamkurs 2 - 10-tägiger Lehrgang
ATTACH;FMTTYPE=image/jpeg:https://hessling.de/wp-content/uploads/2021/04/202010_800x480.jpg
ORGANIZER;CN="Hundeschule He%C3%9Fling":MAILTO:info@hessling.de
END:VEVENT
BEGIN:VEVENT
DTSTART;TZID=UTC:20260419T110000
DTEND;TZID=UTC:20260419T123000
DTSTAMP:20260423T083435
CREATED:20260102T142124Z
LAST-MODIFIED:20260102T142144Z
UID:57855-1776596400-1776601800@hessling.de
SUMMARY:19. April 2026 - Sonntagstreff für Ehemalige
DESCRIPTION:Der genaue Treffpunkt wird nach Anmeldung bekannt gegeben. Anmeldung bitte ausschließlich per Mail unter info@hessling.de bis zum jeweiligen Freitag vor dem Termin.
URL:https://hessling.de/event/19-april-2026-sonntagstreff-fuer-ehemalige/
LOCATION:Hundeschule Heßling\, Frieschenmoorer Str. 17\, Ovelgönne\, 26939\, Deutschland
CATEGORIES:Ehemaligen Treffen
ATTACH;FMTTYPE=image/jpeg:https://hessling.de/wp-content/uploads/2021/04/202010_800x480.jpg
ORGANIZER;CN="Hundeschule He%C3%9Fling":MAILTO:info@hessling.de
END:VEVENT
END:VCALENDAR